BEGIN:VCALENDAR
VERSION:2.0
PRODID:-//Donyatt Parish Council//Meeting Calendar//EN
CALSCALE:GREGORIAN
METHOD:PUBLISH
BEGIN:VEVENT
UID:70545-20250514@donyatt-pc.gov.uk
DTSTAMP:20260425T130440Z
DTSTART;VALUE=DATE:20250514
DTEND;VALUE=DATE:20250515
SUMMARY:Annual Parish Council Meeting &#8211\\; 14 May 2025
DESCRIPTION:Annual Parish Meeting\nView details: https://donyatt-pc.gov.uk/meetings/annual-parish-council-meeting-14-may-2025/
URL:https://donyatt-pc.gov.uk/meetings/annual-parish-council-meeting-14-may-2025/
END:VEVENT
END:VCALENDAR
