BEGIN:VCALENDAR
VERSION:2.0
PRODID:-//Donyatt Parish Council//Meeting Calendar//EN
CALSCALE:GREGORIAN
METHOD:PUBLISH
BEGIN:VEVENT
UID:70549-20250619@donyatt-pc.gov.uk
DTSTAMP:20260425T134814Z
DTSTART;VALUE=DATE:20250619
DTEND;VALUE=DATE:20250620
SUMMARY:Extraordinary Meeting &#8211\\; 19 June 2025
DESCRIPTION:Full Council Meeting\nView details: https://donyatt-pc.gov.uk/meetings/extraordinary-meeting-19-june-2025/
URL:https://donyatt-pc.gov.uk/meetings/extraordinary-meeting-19-june-2025/
END:VEVENT
END:VCALENDAR
