BEGIN:VCALENDAR
VERSION:2.0
PRODID:-//Donyatt Parish Council//Meeting Calendar//EN
CALSCALE:GREGORIAN
METHOD:PUBLISH
BEGIN:VEVENT
UID:70565-20230921@donyatt-pc.gov.uk
DTSTAMP:20260425T164621Z
DTSTART;VALUE=DATE:20230921
DTEND;VALUE=DATE:20230922
SUMMARY:Local Community Network Meeting &#8211\\; 21 September 2023
DESCRIPTION:Local Community Network Meeting\nView details: https://donyatt-pc.gov.uk/meetings/local-community-network-meeting-21-september-2023/
URL:https://donyatt-pc.gov.uk/meetings/local-community-network-meeting-21-september-2023/
END:VEVENT
END:VCALENDAR
