BEGIN:VCALENDAR
VERSION:2.0
PRODID:-//Donyatt Parish Council//Meeting Calendar//EN
CALSCALE:GREGORIAN
METHOD:PUBLISH
BEGIN:VEVENT
UID:70567-20231115@donyatt-pc.gov.uk
DTSTAMP:20260425T153556Z
DTSTART;VALUE=DATE:20231115
DTEND;VALUE=DATE:20231116
SUMMARY:Local Community Network Meeting &#8211\\; 15 November 2023
DESCRIPTION:Local Community Network Meeting\nView details: https://donyatt-pc.gov.uk/meetings/local-community-network-meeting-15-november-2023/
URL:https://donyatt-pc.gov.uk/meetings/local-community-network-meeting-15-november-2023/
END:VEVENT
END:VCALENDAR
