BEGIN:VCALENDAR
VERSION:2.0
PRODID:-//Donyatt Parish Council//Meeting Calendar//EN
CALSCALE:GREGORIAN
METHOD:PUBLISH
BEGIN:VEVENT
UID:70569-20240118@donyatt-pc.gov.uk
DTSTAMP:20260425T161716Z
DTSTART;VALUE=DATE:20240118
DTEND;VALUE=DATE:20240119
SUMMARY:Local Community Network Meeting &#8211\\; 18 January 2024
DESCRIPTION:Local Community Network Meeting\nView details: https://donyatt-pc.gov.uk/meetings/local-community-network-meeting-18-january-2024/
URL:https://donyatt-pc.gov.uk/meetings/local-community-network-meeting-18-january-2024/
END:VEVENT
END:VCALENDAR
