BEGIN:VCALENDAR
VERSION:2.0
PRODID:-//Donyatt Parish Council//Meeting Calendar//EN
CALSCALE:GREGORIAN
METHOD:PUBLISH
BEGIN:VEVENT
UID:70571-20240321@donyatt-pc.gov.uk
DTSTAMP:20260425T153418Z
DTSTART;VALUE=DATE:20240321
DTEND;VALUE=DATE:20240322
SUMMARY:Local Community Network Meeting &#8211\\; 21 March 2024
DESCRIPTION:Local Community Network Meeting\nView details: https://donyatt-pc.gov.uk/meetings/local-community-network-meeting-21-march-2024/
URL:https://donyatt-pc.gov.uk/meetings/local-community-network-meeting-21-march-2024/
END:VEVENT
END:VCALENDAR
