BEGIN:VCALENDAR
VERSION:2.0
PRODID:-//Donyatt Parish Council//Meeting Calendar//EN
CALSCALE:GREGORIAN
METHOD:PUBLISH
BEGIN:VEVENT
UID:70608-20250909@donyatt-pc.gov.uk
DTSTAMP:20260425T140520Z
DTSTART;VALUE=DATE:20250909
DTEND;VALUE=DATE:20250910
SUMMARY:September 09th 2025
DESCRIPTION:Full Council Meeting\nView details: https://donyatt-pc.gov.uk/meetings/september-09th-2025/
URL:https://donyatt-pc.gov.uk/meetings/september-09th-2025/
END:VEVENT
END:VCALENDAR
