BEGIN:VCALENDAR
VERSION:2.0
PRODID:-//Donyatt Parish Council//Meeting Calendar//EN
CALSCALE:GREGORIAN
METHOD:PUBLISH
BEGIN:VEVENT
UID:70616-20251111@donyatt-pc.gov.uk
DTSTAMP:20260425T113237Z
DTSTART;VALUE=DATE:20251111
DTEND;VALUE=DATE:20251112
SUMMARY:Donyatt Parish Council Meeting dates 2025 &#8211\\; 2026
DESCRIPTION:Full Council Meeting\nView details: https://donyatt-pc.gov.uk/meetings/donyatt-parish-council-meeting-dates-2025-2026/
URL:https://donyatt-pc.gov.uk/meetings/donyatt-parish-council-meeting-dates-2025-2026/
END:VEVENT
END:VCALENDAR
