BEGIN:VCALENDAR
VERSION:2.0
PRODID:-//Donyatt Parish Council//Meeting Calendar//EN
CALSCALE:GREGORIAN
METHOD:PUBLISH
BEGIN:VEVENT
UID:70626-20251111@donyatt-pc.gov.uk
DTSTAMP:20260425T130657Z
DTSTART;VALUE=DATE:20251111
DTEND;VALUE=DATE:20251112
SUMMARY:Parish Council Meeting
DESCRIPTION:Full Council Meeting\nView details: https://donyatt-pc.gov.uk/meetings/parish-council-meeting/
URL:https://donyatt-pc.gov.uk/meetings/parish-council-meeting/
END:VEVENT
END:VCALENDAR
