BEGIN:VCALENDAR
VERSION:2.0
PRODID:-//Donyatt Parish Council//Meeting Calendar//EN
CALSCALE:GREGORIAN
METHOD:PUBLISH
BEGIN:VEVENT
UID:70628-20251126@donyatt-pc.gov.uk
DTSTAMP:20260425T110333Z
DTSTART;VALUE=DATE:20251126
DTEND;VALUE=DATE:20251127
SUMMARY:Extraordinary PC Meeting
DESCRIPTION:Full Council Meeting\nView details: https://donyatt-pc.gov.uk/meetings/extraordinary-pc-meeting/
URL:https://donyatt-pc.gov.uk/meetings/extraordinary-pc-meeting/
END:VEVENT
END:VCALENDAR
