BEGIN:VCALENDAR
VERSION:2.0
PRODID:-//Donyatt Parish Council//Meeting Calendar//EN
CALSCALE:GREGORIAN
METHOD:PUBLISH
BEGIN:VEVENT
UID:70635-20260113@donyatt-pc.gov.uk
DTSTAMP:20260425T113122Z
DTSTART;VALUE=DATE:20260113
DTEND;VALUE=DATE:20260114
SUMMARY:Parish Council Meeting
DESCRIPTION:Full Council Meeting\nView details: https://donyatt-pc.gov.uk/meetings/parish-council-meeting-2/
URL:https://donyatt-pc.gov.uk/meetings/parish-council-meeting-2/
END:VEVENT
END:VCALENDAR
