BEGIN:VCALENDAR
VERSION:2.0
PRODID:-//Donyatt Parish Council//Meeting Calendar//EN
CALSCALE:GREGORIAN
METHOD:PUBLISH
BEGIN:VEVENT
UID:71766-20260318@donyatt-pc.gov.uk
DTSTAMP:20260425T111524Z
DTSTART;VALUE=DATE:20260318
DTEND;VALUE=DATE:20260319
SUMMARY:Parish Council Meeting
DESCRIPTION:Full Council Meeting\nView details: https://donyatt-pc.gov.uk/meetings/parish-council-meeting-3/
URL:https://donyatt-pc.gov.uk/meetings/parish-council-meeting-3/
END:VEVENT
END:VCALENDAR
